BEGIN:VCALENDAR
VERSION:2.0
PRODID:-//Communitas - ECPv4.6.19//NONSGML v1.0//EN
CALSCALE:GREGORIAN
METHOD:PUBLISH
X-WR-CALNAME:Communitas
X-ORIGINAL-URL:https://communitas.com.pl
X-WR-CALDESC:Events for Communitas
BEGIN:VEVENT
DTSTART;TZID=Europe/Warsaw:20190117T100000
DTEND;TZID=Europe/Warsaw:20190117T170000
DTSTAMP:20260422T083047
CREATED:20181024T093653Z
LAST-MODIFIED:20181024T093653Z
UID:3053-1547719200-1547744400@communitas.com.pl
SUMMARY:Wysoko wrażliwe dzieci- warsztaty z Gosią Stańczyk
DESCRIPTION:Kim są wrażliwe dzieci?\n15-20 procent dzieci\, to dzieci obdarzone wysoką wrażliwością\, dzieci które dostrzegają\, przetwarzają i czują więcej niż inne\, co często jest dla nich przyczyną silnego dyskomfortu. \nWysoko wrażliwe dzieci\, by dobrze funkcjonować potrzebują wsparcia\, uważnego towarzyszenia\, stwarzania im optymalnych warunków\, akceptacji ich wolniejszego tempa adaptowania się do nowych sytuacji\, wsparcia w radzeniu sobie z emocjami\, które w ich przypadku nabierają bardzo silnego natężenia. \nGdy stworzymy im te warunki\, funkcjonują bardzo dobrze\, nawet lepiej niż osoby mniej wrażliwe\, bo mogą dodatkowo wykorzystać potencjał\, związany z ich wrażliwością. \nJeśli chcesz sprawdzić\, czy Twoje dziecko może być wrażliwe\, przeczytaj ten tekst: \n\nWrażliwe rodzicielstwo \nWysoko wrażliwe dzieci stawiają przed rodzicami szczególne wyzwania.  Często mówi się o nich\, jako o przewrażliwionych\, kapryśnych albo wstydliwych czy nieśmiałych. Żadne z tych określeń nie dotyka istoty i żadne z nich nie pomaga zrozumieć perspektywy wrażliwych dzieci. Rodzice mierzą się z niezrozumieniem otoczenia\, często czują się oceniani i obwiniani\, gdy ich rzekomej nadopiekuńczości upatruje się przyczyn trudności dziecka. Wielu z nas mierzy się także z własną wrażliwością\, która nie zawsze była zaopiekowana. Kontakt z wrażliwym dzieckiem te wrażliwe struny i doświadczenia z dzieciństwa porusza. \nPodczas warsztatów\, spotkań poświęconych wysokiej wrażliwości rodzice mówią o uldze\, jaką niesie zrozumienie wrażliwości i poczucie wspólnoty z innymi rodzicami wrażliwców. Zapraszam Was do doświadczenia tej wspólnoty\, wymiany doświadczeń i rozwoju. \n  \n\n\nCzym jest i czym nie jest wysoka wrażliwość? Aspekty\, przyczyny i natura wysokiej wrażliwości. \n\n\nOblicza wysokiej wrażliwości \n\n\nJakiego wsparcia potrzebują wysoko wrażliwe dzieci? \n\n\nWysoko wrażliwi i mniej wrażliwi rodzice – jak postrzegają wrażliwość dziecka i w jaki sposób mogą zadbać o siebie? \n\n\nWysoka wrażliwość w przedszkolu i szkole \n\n\nWysoka wrażliwość jako zasób – co daje dziecku wysoka wrażliwość i co wysoko wrażliwe dzieci dają światu? \n\n\nInformacje dodatkowe: \nLiczebność grupy: do 14 osób \nCzas trwania warsztatu: 7 godzin (10-17) \nW cenę warsztatu wliczony jest poczęstunek z domowym ciastem przy kawie i herbacie  oraz w zupa w przerwie obiadowej  ! \nProwadząca: \n \nMałgorzata Stańczyk – psycholog\, mama trojga dzieci. Wspiera rodziców i nauczycieli w poszukiwaniu wiedzy\, narzędzi i sposobów na satysfakcjonujący\, oparty na szacunku kontakt z dziećmi. Udziela konsultacji psychologicznych\, prowadzi warsztaty dla rodziców\, webinaria i superwizyjne spotkania dla nauczycieli. Pisze blog poświęcony sprawom rodzicielstwa i rozwoju: www.gosiastanczyk.p \n
URL:https://communitas.com.pl/wydarzenie/wysoko-wrazliwe-dzieci-warsztaty-z-gosia-stanczyk/
LOCATION:Piramowicza 11/13 I piętro\, Łódź
ATTACH;FMTTYPE=image/jpeg:https://communitas.com.pl/wp-content/uploads/2017/12/OCRUVH0.jpg
ORGANIZER;CN="Centrum%20Rozwoju%20Communitas":MAILTO:aleksandra@communitas.com.pl
END:VEVENT
END:VCALENDAR