BEGIN:VCALENDAR
VERSION:2.0
PRODID:-//Communitas - ECPv4.6.19//NONSGML v1.0//EN
CALSCALE:GREGORIAN
METHOD:PUBLISH
X-WR-CALNAME:Communitas
X-ORIGINAL-URL:https://communitas.com.pl
X-WR-CALDESC:Events for Communitas
BEGIN:VEVENT
DTSTART;TZID=Europe/Warsaw:20210927T180000
DTEND;TZID=Europe/Warsaw:20210927T203000
DTSTAMP:20260422T100859
CREATED:20210601T211159Z
LAST-MODIFIED:20210828T200855Z
UID:3649-1632765600-1632774600@communitas.com.pl
SUMMARY:„ Siła miłości\, przynależności i poczucia\, że jest się wystarczająco dobrym”- Spotkanie Rozwojowe
DESCRIPTION:Spotkanie Rozwojowe\nCo to takiego? \nTo szansa na odbycie procesu coachingowego siedząc na wygodnych siedziskach w otoczeniu ludzi\, dla których rozwój samoświadomości jest ważny\, z którymi można doświadczyć wyjątkowej podróży do świata metafor\, zdjęć\, słów i opowieści \, w poszukiwaniu odpowiedzi na nurtujące pytania z różnych obszarów ludzkiej egzystencji. \nSpotkanie jest okazją do uwolnienia się od schematów myślenia\, do odejścia od typowych rozwiązań by w efekcie skutecznie i adekwatnie do swoich potrzeb wejść w proces zmiany . \nPodczas spotkań wykorzystywane są narzędzia renomowanej firmy Points Of You : The Coaching Game\, Punctum oraz Faces. \n\n\n Tematem wrześniowego Spotkania Rozwojowego będzie : „ Siła miłości\, przynależności i poczucia\, że jest się wystarczająco dobrym” !\n\n\n „Miłość nie jest czymś\, co bierzemy lub dajemy- ale czymś\, co możemy hodować i pielęgnować.\nJest to więź\, którą dwoje ludzi może doskonalić tylko wtedy\, kiedy istnieje ona w nich samych- możemy kochać innych tylko wtedy\, gdy kochamy siebie.”\n\nBrene Brown\n\n\n\n ” Jeśli chcemy w pełni doświadczyć miłości i poczucia przynależności\, musimy uwierzyć\, że jesteśmy ich warci”\n\n   Brene Brown\n\n\n\n \n\n\nPodczas spotkania będziesz miał/miała okazję poszukać odpowiedzi na pytania :\n\n\n\nco pomaga mi kochać siebie?\nczuję się wartościowy/-wa  i godny/-na miłości gdy… ?\nwiem\, że przynależę gdy… ?\nco mogę zrobić\, by czerpać siłę z miłości\, przynależności i poczucia wystarczalności w swoim życiu?\n\n\n\n \n\n\n \n\n\n Chętnych do udziału w spotkaniu\, zapraszam do zgłaszania się do dnia 20 września  2021 r. \n\n\n \n\n\n \n\n\n \n\n\nKoszt udziału w spotkaniu: 60 zł/osoba\n\n\n\n\n\n\n
URL:https://communitas.com.pl/wydarzenie/spotkanie-rozwojowe/
LOCATION:Dowborczyków 5a lok.7\, Łódź\, 90-019\, Polska
CATEGORIES:Spotkanie rozwojowe
ATTACH;FMTTYPE=image/jpeg:https://communitas.com.pl/wp-content/uploads/2019/12/3.jpg
ORGANIZER;CN="Centrum%20Rozwoju%20Communitas":MAILTO:aleksandra@communitas.com.pl
END:VEVENT
END:VCALENDAR