BEGIN:VCALENDAR
VERSION:2.0
PRODID:-//Communitas - ECPv4.6.19//NONSGML v1.0//EN
CALSCALE:GREGORIAN
METHOD:PUBLISH
X-WR-CALNAME:Communitas
X-ORIGINAL-URL:https://communitas.com.pl
X-WR-CALDESC:Events for Communitas
BEGIN:VEVENT
DTSTART;TZID=Europe/Warsaw:20191219T173000
DTEND;TZID=Europe/Warsaw:20191219T210000
DTSTAMP:20260422T083025
CREATED:20191119T100637Z
LAST-MODIFIED:20191215T094304Z
UID:3375-1576776600-1576789200@communitas.com.pl
SUMMARY:Prawdziwa siła wrażliwości- spotkanie V
DESCRIPTION:“Prawdziwa siła wrażliwości “ to drugi po “Wyprawie po dary” program rozwojowy\, który zaprojektowałam  zainspirowana metodologią Brene Brown.\n\n\n„Jako dzieci znajdujemy sposoby\, aby chronić się przed wrażliwością\, przed zranieniem\, poniżeniem i rozczarowaniem. \nWkładamy zbroję; wykorzystywaliśmy nasze myśli\, emocje i zachowania jako broń; uczyliśmy się postępować tak\, by było nas coraz mniej\, a nawet znikać. \n\n\n\nTeraz\,  jako dorośli\, uświadamiamy sobie\, że aby żyć z wielką odwagą\, z poczuciem celu i łączności z innymi- aby być osobą\, która pragniemy być- znowu musimy stać się wrażliwi. \nMusimy zdjąć zbroję\, odłożyć broń\, odsłonić się i pozwolić\, aby inni nas zobaczyli.” \n\nBrene Brown \nPodczas piątego spotkania kończącego program „Prawdziwej siły wrażliwości”  przyjrzymy się  temu\, co możemy zrobić\, aby pragnienie czerpania siły z wrażliwości stało się codzienną praktyką. \nPorozmawiamy o tym\, że: \n„W wykazywaniu się wielką odwagą nie chodzi o zwyciężanie bądź przegrywanie. \nChodzi o odwagę. \nW świecie\, w którym dominuje poczucie niedostatku i wstyd\, a odczuwanie lęku stało się drugą naturą człowieka\, wrażliwość jest czymś wręcz rewolucyjnym. \nNiewygodnym. \nCzasem nawet jest trochę niebezpieczna. \nNiewątpliwie doświadczenie jej naraża nas na znacznie większe ryzyko zranienia. \nJednak\, gdy przyglądam się mojemu własnemu życiu i temu\, czym dla mnie jest Wielka Odwaga\, mogę z pełnym przekonaniem stwierdzić\, że nic nie jest równie niewygodne\, niebezpieczne i bolesne\, jak stanie z boku własnego życia\, przyglądanie się mu  i zastanawianie się\, jak by to było\, gdybym miał odwagę pokazać się i pozwolić\, by inni ludzie zobaczyli mnie takim\, jakim jestem.” \nBrene Brown \n  \nZapraszam na spotkanie \n
URL:https://communitas.com.pl/wydarzenie/prawdziwa-sila-wrazliwosci-spotkanie-v/
LOCATION:Piramowicza 11/13 I piętro\, Łódź
CATEGORIES:Spotkanie rozwojowe
ATTACH;FMTTYPE=image/jpeg:https://communitas.com.pl/wp-content/uploads/2019/11/Prawdziwa-sila_baner-końcowy.jpg
ORGANIZER;CN="Centrum%20Rozwoju%20Communitas":MAILTO:aleksandra@communitas.com.pl
END:VEVENT
END:VCALENDAR