BEGIN:VCALENDAR
VERSION:2.0
PRODID:-//Communitas - ECPv4.6.19//NONSGML v1.0//EN
CALSCALE:GREGORIAN
METHOD:PUBLISH
X-WR-CALNAME:Communitas
X-ORIGINAL-URL:https://communitas.com.pl
X-WR-CALDESC:Events for Communitas
BEGIN:VEVENT
DTSTART;TZID=Europe/Warsaw:20190926T173000
DTEND;TZID=Europe/Warsaw:20190926T210000
DTSTAMP:20260423T090831
CREATED:20190814T083443Z
LAST-MODIFIED:20190814T192658Z
UID:3319-1569519000-1569531600@communitas.com.pl
SUMMARY:"Prawdziwa siła wrażliwości"- Program Rozwojowy
DESCRIPTION:“Prawdziwa siła wrażliwości “ to drugi po “Wyprawie po dary” program rozwojowy\, który zaprojektowałam  zainspirowana metodologią Brene Brown. \n“Wyprawa po dary”  to proces wyzwalania się z perfekcjonizmu\, który przygotowuje uczestnika do przyjęcia „Prawdziwej siły wrażliwości” oraz wyjścia do ludzi z wielką odwagą.  \nCzym jest wykazanie się wielką odwagą? \n“Perfekcja i kuloodporność mogą nas nęcić\, lecz nie leżą w zasięgu ludzkiego doświadczenia. Na arenę\, czymkolwiek miałaby ona być- ważną relacją\, ważnym spotkaniem\, uczestniczeniem w procesie kreacji czy trudną rozmową z członkiem rodziny- musimy wejść z wielką odwagą i gotowością do zaangażowania się.  Zamiast siedzieć z boku\, krytykować\, udzielać rad\, musimy odważyć się wyjść do ludzi i pozwolić się zobaczyć. To właśnie jest wrażliwość. To pokazanie się z wielką odwagą. “ Brene Brown \n  \nPodczas program\, będziesz miał/ miała okazję : \n\nsprawdzić skąd się bierze twój lęk przed byciem wrażliwym / wrażliwą?\nprzyjrzeć się temu\, w jaki sposób chronisz się przed swoją wrażliwością?\nokreślić co tracisz\, gdy zamykasz się w sobie i rezygnujesz z zaangażowania?\npoznać swoją wrażliwość i sprawdzić w jaki sposób możesz z niej korzystać\, aby zacząć zmieniać to\, jak żyjesz i kochasz\,jakim jesteś rodzicem  i jak przewodzisz.\n\nPonadto dowiesz się więcej o tym: \n\njak przeciwstawiać się wstydowi\nw jaki sposób uwalniać się ze zbroi (“zbroja to doskonała metafora tego\, w jaki sposób chronimy się przed dyskomfortem wrażliwości” – Brene Brown)\nczym jest “powszechny arsenał wrażliwości”\n\nZapraszam Cię do „Prawdziwej siły wrażliwości””\, która składa się z: \n\n5 regularnych spotkań\, które mogą być wzmacniające i stanowić inspirację do wejścia w zmianę.\nzadań wdrożeniowych\, które zachęcają do pracy indywidualnej pomiędzy warsztatami\ngrupy wsparcia\, którą stanowią ludzie opiekujący się swoją wrażliwością\, dla których pokazanie siebie w prawdzie jest aktem wielkiej odwagi\n\n  \nJako prowadząca będę czuwała nad tym\, by spotkanie przebiegało w atmosferze szacunku i empatii\, postaram się również być wsparciem merytorycznym oraz emocjonalnym dla grupy. \nInformacje organizacyjne: \nCzas trwania spotkania: 3\,5 godziny zegarowej (17.30-21.00) \nLiczebność grupy: 8-12 osób \nCena cyklu : 400 zł \nMożliwa jest opłata jednorazowa za pierwsze spotkanie 80 zł\, po którym możesz zdecydować czy masz zamiar brać udział w cyklu i dopłacić pozostałą część kwoty za cykl ( 320 zł) \nPIERWSZE SPOTKANIE Z CYKLU ODBĘDZIE SIĘ 26 WRZEŚNIA \n  \nHarmonogram spotkań: \nI spotkanie 26 września \nII spotkanie 17 października \nIII spotkanie 7 listopada \nIV spotkanie 28 listopada \nV spotkanie 19 grudnia \nProwadząca: \nWłaścicielka Centrum Rozwoju Communitas\, które powstało by działać na rzecz ludzi\, dla których bliskość\, tworzenie więzi\, wspólnota i bycie w kontakcie z samym sobą oraz innymi ludźmi jest ważne. \nAntropololog kultury\, certyfikowany trener\, praktyk Points Of You\, propagatorka rodzicielstwa bliskości i Porozumienia bez Przemocy. \nKobieta projektująca warsztaty dla kobiet z myślą o kobietach inspirowane metodologią Brene Brown\, w których kluczowe znaczenie ma praca z wrażliwością. Absolwentka półrocznego Programu Rozwoju Odwagi by Joanna Chmura wg metodologii Brene Brown. \nProwadząca spotkania rozwojowe\, zachęcająca do zmiany perspektywy oraz poszukiwania odpowiedzi na pytania z obszaru ludzkiej egzystencji. \n  \nTrenerka\, która w pracy najbardziej ceni sobie wymianę między ludźmi na poziomie wiedzy\, umiejętności\, doświadczenia oraz emocji. \nŚwiadoma mama dwóch chłopców\, zakręcona żona racjonalnego mężczyzny. \n  \n
URL:https://communitas.com.pl/wydarzenie/prawdziwa-sila-wrazliwosci-program-rozwojowy/
LOCATION:Piramowicza 11/13 I piętro\, Łódź
CATEGORIES:Spotkanie rozwojowe
ATTACH;FMTTYPE=image/jpeg:https://communitas.com.pl/wp-content/uploads/2019/08/Prawdziwa-sila_baner.jpg
ORGANIZER;CN="Centrum%20Rozwoju%20Communitas":MAILTO:aleksandra@communitas.com.pl
END:VEVENT
END:VCALENDAR