BEGIN:VCALENDAR
VERSION:2.0
PRODID:-//Communitas - ECPv4.6.19//NONSGML v1.0//EN
CALSCALE:GREGORIAN
METHOD:PUBLISH
X-WR-CALNAME:Communitas
X-ORIGINAL-URL:https://communitas.com.pl
X-WR-CALDESC:Events for Communitas
BEGIN:VEVENT
DTSTART;TZID=Europe/Warsaw:20191107T173000
DTEND;TZID=Europe/Warsaw:20191107T210000
DTSTAMP:20260422T094657
CREATED:20190927T160317Z
LAST-MODIFIED:20191030T162330Z
UID:3350-1573147800-1573160400@communitas.com.pl
SUMMARY:Prawdziwa siła wrażliwości- III spotkanie
DESCRIPTION:“Prawdziwa siła wrażliwości “ to drugi po “Wyprawie po dary” program rozwojowy\, który zaprojektowałam  zainspirowana metodologią Brene Brown.\nCzym jest wykazanie się wielką odwagą? \n“Perfekcja i kuloodporność mogą nas nęcić\, lecz nie leżą w zasięgu ludzkiego doświadczenia. Na arenę\, czymkolwiek miałaby ona być- ważną relacją\, ważnym spotkaniem\, uczestniczeniem w procesie kreacji czy trudną rozmową z członkiem rodziny- musimy wejść z wielką odwagą i gotowością do zaangażowania się.  Zamiast siedzieć z boku\, krytykować\, udzielać rad\, musimy odważyć się wyjść do ludzi i pozwolić się zobaczyć. To właśnie jest wrażliwość. To pokazanie się z wielką odwagą. “ Brene Brown \nPodczas trzeciego spotkania „Prawdziwej siły wrażliwości”: \n\nporozmawiamy o tym czym jest wstyd i dlaczego trudno o nim mówić\nprzyjrzymy się rozróżnieniu wstydu od poczucia winy\, upokorzenia i zakłopotania\nomówimy „pajęczynę wstydu”\, w którą wpadają kobiety\nposzukamy odpowiedzi na pytania:\n\n\nna czym polega wychodzenie ze wstydu?\njak można budować odporność na wstyd?\n\nZapraszam do udziału! \n  \n
URL:https://communitas.com.pl/wydarzenie/prawdziwa-sila-wrazliwosci-ii-spotkanie/
LOCATION:Piramowicza 11/13 I piętro\, Łódź
CATEGORIES:Spotkanie rozwojowe
ATTACH;FMTTYPE=image/jpeg:https://communitas.com.pl/wp-content/uploads/2019/09/Prawdziwa-sila_listopad.jpg
ORGANIZER;CN="Centrum%20Rozwoju%20Communitas":MAILTO:aleksandra@communitas.com.pl
END:VEVENT
END:VCALENDAR