BEGIN:VCALENDAR
VERSION:2.0
PRODID:-//Communitas - ECPv4.6.19//NONSGML v1.0//EN
CALSCALE:GREGORIAN
METHOD:PUBLISH
X-WR-CALNAME:Communitas
X-ORIGINAL-URL:https://communitas.com.pl
X-WR-CALDESC:Events for Communitas
BEGIN:VEVENT
DTSTART;TZID=Europe/Warsaw:20180129T180000
DTEND;TZID=Europe/Warsaw:20180129T203000
DTSTAMP:20260422T095106
CREATED:20180116T173411Z
LAST-MODIFIED:20180122T205017Z
UID:2172-1517248800-1517257800@communitas.com.pl
SUMMARY:Poduchowe Spotkania Rozwojowe. Przebudzenie.
DESCRIPTION:
URL:https://communitas.com.pl/wydarzenie/poduchowe-spotkanie-rozwojowe-przebudzenie/
LOCATION:Piramowicza 11/13 I piętro\, Łódź
CATEGORIES:Spotkanie rozwojowe
ORGANIZER;CN="Centrum%20Rozwoju%20Communitas":MAILTO:aleksandra@communitas.com.pl
END:VEVENT
END:VCALENDAR