BEGIN:VCALENDAR
VERSION:2.0
PRODID:-//Communitas - ECPv4.6.19//NONSGML v1.0//EN
CALSCALE:GREGORIAN
METHOD:PUBLISH
X-WR-CALNAME:Communitas
X-ORIGINAL-URL:https://communitas.com.pl
X-WR-CALDESC:Events for Communitas
BEGIN:VEVENT
DTSTART;TZID=Europe/Warsaw:20190923T173000
DTEND;TZID=Europe/Warsaw:20190923T200000
DTSTAMP:20260422T100408
CREATED:20190708T091929Z
LAST-MODIFIED:20190708T091929Z
UID:3296-1569259800-1569268800@communitas.com.pl
SUMMARY:Otulisko- spotkanie dla kobiet 23 września
DESCRIPTION:Bardzo bliskie mojemu sercu jest poszukiwanie poczucia wspólnoty z innymi kobietami. \nZapraszam Cię na  Otulisko \nJak sobie wyobrażam taki rodzaj spotkania\, który nazwałam Otuliskiem: \n\nDwa razy w miesiącu\,  spotykamy się babsko w pracowni\, aby pobyć razem od 17.30 do 20.00\nSiadamy w kręgu wygodnie na poduchach i sofach.\nStawiamy w środku jedzenie\, które dla nas przygotuję i rozlewamy do kubków pyszną herbatę oraz kawę.\nRozmawiamy\, dzielimy się historiami życia\, odpoczywamy i wzbogacamy nasze życie wymianą z innymi.\nSłuchamy muzyki i dzielimy się inspiracjami\, opowiadamy sobie o filmach i książkach\, które nas poruszyły.\nOdpoczywamy\, rozwijamy się i świętujemy życie– TAK TO WIDZĘ :).\n\nJeśli i Ty pragniesz współtworzyć przestrzeń dla żywej wspólnoty kobiet\, to zapraszam Cię na najbliższe spotkanie \n23 września (poniedziałek) o 17.30 🙂 \n
URL:https://communitas.com.pl/wydarzenie/otulisko-spotkanie-dla-kobiet-23-wrzesnia/
LOCATION:Piramowicza 11/13 I piętro\, Łódź
CATEGORIES:Wioska wsparcia
ATTACH;FMTTYPE=image/jpeg:https://communitas.com.pl/wp-content/uploads/2019/07/Otulisko_baner_wrzesien-23.jpg
ORGANIZER;CN="Centrum%20Rozwoju%20Communitas":MAILTO:aleksandra@communitas.com.pl
END:VEVENT
END:VCALENDAR