BEGIN:VCALENDAR
VERSION:2.0
PRODID:-//Communitas - ECPv4.6.19//NONSGML v1.0//EN
CALSCALE:GREGORIAN
METHOD:PUBLISH
X-WR-CALNAME:Communitas
X-ORIGINAL-URL:https://communitas.com.pl
X-WR-CALDESC:Events for Communitas
BEGIN:VEVENT
DTSTART;TZID=Europe/Warsaw:20190725T090000
DTEND;TZID=Europe/Warsaw:20190725T170000
DTSTAMP:20260422T083011
CREATED:20190522T090636Z
LAST-MODIFIED:20190522T094408Z
UID:3271-1564045200-1564074000@communitas.com.pl
SUMMARY:Niezintegrowane odruchy – szansa czy przeszkoda w rozwoju?
DESCRIPTION:Niezintegrowane odruchy – szansa czy przeszkoda w rozwoju?- warsztaty z Joanną Serwińską\nZapraszamy na warsztat dotyczący niezintegrowanych odruchów wczesnodziecięcych\, oparty o twardą wiedzę neurologiczną\, który miękko doda Ci otuchy\, konkretnie podpowie co robić i diametralnie zmieni spojrzenie na ludzi.\n\nCzasem ATOS kojarzy nam się wyłącznie z psem\, MORO – z kurtką\, STOS – ze stertą. Tymczasem okazuje się\, że są częściami naszego programu rozwoju neurologicznego\, który jeśli się „zatnie”\, może potężnie utrudniać nam i naszym dzieciom życie. Jeśli słyszałaś o odruchach pierwotnych lub miałaś do czynienia z diagnozą w obrębie integracji sensorycznej lub wręcz przeciwnie – nigdy nie natknęłaś się na to zagadnienie\, nadal to\, o czym dowiesz się na spotkaniu\, co sprawdzimy na sobie i skonfrontujemy z doświadczeniami swoich dzieci – może być wielkim odkryciem na miarę nowej jakości życia.\n\nSprawdź\, jak możesz pomóc sobie\, dziecku i innym bliskim podczas warsztatów nt. dojrzewania układu nerwowego – odruchów niezintegrowanych. \nCzy to dla Ciebie?\nJeżeli: \n\nZastanawiasz się\, dlaczego dziecko zachowuje się w określony\, „dziwny” sposób\,\nDziecko jest wybuchowe\, często przeżywa złość lub reakcje wydają się przesadzone\,\nDziecko ma trudności w nawiązywaniu relacji z innymi\, czy w ogóle w obcowaniu ze światem\,\nJesteś zmęczona i sfrustrowana jego nieporadnością\, brakiem koncentracji\, tym\, że nie słucha\, wierci się i kręci\, nie chce się uczyć?\n\n  \nA dodatkowo: \n\n Jesteś psychologiem\, pedagogiem\, rodzicem\, dziadkiem\, nauczycielem lub opiekujesz się dziećmi\,\nSzukasz innych rozwiązań niż karanie\, nagradzanie\, bo widzisz ich bezsens\, szkodliwość lub krótkowzroczność\,\nWierzysz w potęgę relacji z drugim człowiekiem oraz w to\, że dziecko to człowiek.\n\nO spotkaniu – w szczegółach:\nWarsztat ma swój zaplanowany porządek\, ale jest elastyczny. To\, co usłyszysz jako jedną z zasad spotkania\, brzmi: „zadbaj o siebie – o swój komfort”\, bo od tego zaczyna się efektywne przyswajanie wiedzy i nowych umiejętności. \nCzęści\, z których składa się spotkanie\, to:\nCz. I – CZAS CIĄŻY I PIERWSZE LATA ŻYCIA\nTu omówiony zostanie wpływ okresu prenatalnego i postnatalnego (do 4 r. ż) na funkcjonowanie człowieka.\n\nCz. II- MÓZG I UKŁAD NERWOWY\nJoanna opowie\, czym są odruchy pierwotne \, dynamiczne i posturalne i dlaczego tak mocno warunkują nas i nasze relacje ze światem oraz dlaczego tzw. wychowanie czy charakter dziecka to nietrafione wytłumaczenie łatwości / trudności w uczeniu się\, codziennym funkcjonowaniu i zachowaniu.\n\nCz. III – ODRUCHY PIERWOTNE A ODCZUWANIE ŚWIATA I ZACHOWANIE\nPrzełożymy zagadkowo brzmiące nazwy odruchów na codzienne doświadczenia. Sprawdzimy co nieco na sobie i podyskutujemy na temat naszych doświadczeń z dziećmi. Okryjemy ze zadziwieniem jak często się zdarza\, że sami borykamy się z utrudnieniami płynącymi z niewygaszonych odruchów wczesnodziecięcych i damy sobie więcej zrozumienia. \n\nCz. IV – ROZWIĄZANIA\nProwadząca podpowie\, jak rozpoznać i zdiagnozować wpływ odruchów na nas i nasze dzieci\, jak pomóc i pracować nad poprawą jakości życia i dobrostanu dzieci. Wskaże konkretne sposoby terapii dzieci\, młodzieży i dorosłych z problemami w nauce\, emocjach\, funkcjonowaniu społecznym oraz z trudnościami adaptacyjnymi\, niezgrabnością ruchową.  \n  \nGodziny spotkania: 9.00 – 17.00 \nLiczba uczestników: max 16 osób \nProwadząca:\nJoanna Serwińska jest pedagogiem specjalnym\, który wspiera rodziców szukających pomocy w rozwiązywaniu trudności wychowawczych. Swój coaching rodzicielski opiera na rodzicielstwie bliskości i teorii przywiązania. Jest terapeutką neurorozwojową (specjalizuje się w diagnozie i terapii niezintegrowanych odruchów )\, terapeutką TSR\, pedagogiem specjalnym\, dyrektorką Niepublicznej Poradni Psychologiczno-Pedagogicznej „Plus”; więcej informacji: www.joannaserwinska.pl \n
URL:https://communitas.com.pl/wydarzenie/niezintegrowane-odruchy-szansa-czy-przeszkoda-w-rozwoju/
LOCATION:Piramowicza 11/13 I piętro\, Łódź
ATTACH;FMTTYPE=image/jpeg:https://communitas.com.pl/wp-content/uploads/2018/05/486.jpg
ORGANIZER;CN="Centrum%20Rozwoju%20Communitas":MAILTO:aleksandra@communitas.com.pl
END:VEVENT
END:VCALENDAR