BEGIN:VCALENDAR
VERSION:2.0
PRODID:-//Communitas - ECPv4.6.19//NONSGML v1.0//EN
CALSCALE:GREGORIAN
METHOD:PUBLISH
X-WR-CALNAME:Communitas
X-ORIGINAL-URL:https://communitas.com.pl
X-WR-CALDESC:Events for Communitas
BEGIN:VEVENT
DTSTART;TZID=Europe/Warsaw:20190317T100000
DTEND;TZID=Europe/Warsaw:20190317T140000
DTSTAMP:20260422T083437
CREATED:20181115T123013Z
LAST-MODIFIED:20190216T175039Z
UID:3083-1552816800-1552831200@communitas.com.pl
SUMMARY:Chcemy dialogu w naszym związku - spotkania warsztatowe dla par
DESCRIPTION:“Chcemy dialogu w naszym związku”  to spotkania warsztatowe dla par\, które szukają wsparcia w budowaniu porozumienia w swoim związku w intencji porozumienia bez przemocy.\n\nKażde spotkanie to inny temat:\n\n\n \n\n\nPrzed nami: Twoja i Moja Złość\n\n\n \n\n\nCo się będzie działo:\n\n\n \n\n\n\nPorozmawiamy o tym co na temat złości mówi porozumienie bez przemocy oraz o tym czym jest bogactwo konfliktu\nPrzyjrzymy się temu w jaki sposób  możemy wspierać siebie i bliską osobę\, która się złości  \nWejdziemy w trening wyrażania siebie w czterech krokach\nSpędzimy wspólnie czas i zjemy razem coś dobrego 🙂\n\n\n\n \n\n\nTermin:   17 marca 2019r (niedziela)\n\n\n \n\n\nGodzina: 10.00 – 14.00\n\n\n \n\n\nMiejsce: Pracowania 11 Muz  ul. Piramowicza 11/13 Łódź\n\n\n \n\n\nOpłata za spotkanie: 100 zł / para\n\n\n \n\n\nCzęstotliwość : Raz w miesiącu\n\n\n \n\n\nW ramach spotkania  poczęstunek z domowym ciastem oraz kawa i herbata 🙂\n\n  \nZapowiedź kolejnych spotkań: \n13 kwietnia \nIV temat: Porozumienie w związku- spotkanie podsumowujące cykl. \n  \nProwadząca: \n\nAleksandra Peterman-Szlaga\nwłaścicielka Centrum Rozwoju Communitas\, antropololog kultury\, certyfikowany trener\, praktyk Points Of You\, propagatorka rodzicielstwa bliskości i porozumienia bez przemocy. Prowadząca warsztaty oraz spotkania rozwojowe dla kobiet\, rodziców oraz par. Żona Michała oraz mama Piotra i Wojciecha.  \n  \n
URL:https://communitas.com.pl/wydarzenie/chcemy-dialogu-w-naszym-zwiazku-spotkania-warsztatowe-dla-par/
LOCATION:Piramowicza 11/13 I piętro\, Łódź
ATTACH;FMTTYPE=image/jpeg:https://communitas.com.pl/wp-content/uploads/2018/11/Dialog_w_związku_marzec.jpg
ORGANIZER;CN="Centrum%20Rozwoju%20Communitas":MAILTO:aleksandra@communitas.com.pl
END:VEVENT
END:VCALENDAR